Workbook

Sheet Sheet1
A1: Standards:
A2: Well | B2: Concentration | C2: Units | D2: Absorbance 1 (450 nm) | E2: Absorbance 2 (450 nm) | F2: ABS avg
A3: A1, A2 | B3: 0 | C3: ng/ml | D3: 0.042 | E3: 0.041 | F3: =AVERAGE(D3:E3) -> 0.0415
A4: B1, B2 | B4: 0.05 | C4: ng/ml | D4: 0.044 | E4: 0.044 | F4: =AVERAGE(D4:E4) -> 0.044
A5: C1, C2 | B5: 0.2 | C5: ng/ml | D5: 0.056 | E5: 0.063 | F5: =AVERAGE(D5:E5) -> 0.0595
A6: D1, D2 | B6: 0.6 | C6: ng/ml | D6: 0.138 | E6: 0.182 | F6: =AVERAGE(D6:E6) -> 0.16
A7: E1, E2 | B7: 1.5 | C7: ng/ml | D7: 0.462 | E7: 0.43 | F7: =AVERAGE(D7:E7) -> 0.446
A8: F1, F2 | B8: 3 | C8: ng/ml | D8: 0.432 | E8: 0.802 | F8: =AVERAGE(D8:E8) -> 0.617
A9: G1, G2 | B9: 6 | C9: ng/ml | D9: 1.275 | E9: 0.981 | F9: =AVERAGE(D9:E9) -> 1.128
A10: H1, H2 | B10: 12 | C10: ng/ml | D10: 3.53 | E10: 2.783 | F10: =AVERAGE(D10:E10) -> 3.1565
A12: Unknowns:
A13: Well | B13: Animal | C13: Abs 1 | D13: Abs 2 | E13: ABS avg | F13: Concentration
A14: A3, A4 | B14: Cow 1 Week 1 | C14: 2.486 | D14: 1.501 | E14: =AVERAGE(C14:D14) -> 1.9935 | F14: =(E14-'standard curve'!$I$11)/'standard curve'!$H$11 -> 8.0827331 | G14: d
A15: B3, B4 | B15: Cow 1 Week 2 | C15: 2.36 | D15: 2.15 | E15: =AVERAGE(C15:D15) -> 2.255 | F15: =(E15-'standard curve'!$I$11)/'standard curve'!$H$11 -> 9.1320316 | G15: d
A16: C3, C3 | B16: Cow 1 Week 3 | C16: 0.066 | D16: 0.066 | E16: =AVERAGE(C16:D16) -> 0.066 | F16: =(E16-'standard curve'!$I$11)/'standard curve'!$H$11 -> 0.34842009 | G16: p-e
A17: D3, D4 | B17: Cow 2 Week 1 | C17: 0.062 | D17: 0.064 | E17: =AVERAGE(C17:D17) -> 0.063 | F17: =(E17-'standard curve'!$I$11)/'standard curve'!$H$11 -> 0.33638225 | G17: p-e
A18: E3, E4 | B18: Cow 2 Week 2 | C18: 0.062 | D18: 0.058 | E18: =AVERAGE(C18:D18) -> 0.06 | F18: =(E18-'standard curve'!$I$11)/'standard curve'!$H$11 -> 0.32434441 | G18: p-e
A19: F3, F4 | B19: Cow 2 Week 3 | C19: 1.519 | D19: 1.101 | E19: =AVERAGE(C19:D19) -> 1.31 | F19: =(E19-'standard curve'!$I$11)/'standard curve'!$H$11 -> 5.3401116 | G19: d
A20: G3, G4 | B20: Cow 3 Week 1 | C20: 1.303 | D20: 1.428 | E20: =AVERAGE(C20:D20) -> 1.3655 | F20: =(E20-'standard curve'!$I$11)/'standard curve'!$H$11 -> 5.5628117 | G20: d
A21: H3, H4 | B21: Cow 3 Week 2 | C21: 2.455 | D21: 2.508 | E21: =AVERAGE(C21:D21) -> 2.4815 | F21: =(E21-'standard curve'!$I$11)/'standard curve'!$H$11 -> 10.040889 | G21: d
A22: A5, A6 | B22: Cow 3 Week 3 | C22: 1.195 | D22: 1.191 | E22: =AVERAGE(C22:D22) -> 1.193 | F22: =(E22-'standard curve'!$I$11)/'standard curve'!$H$11 -> 4.8706358 | G22: m

Sheet standard curve
A1: Unknows:
A2: Well | B2: Concentration | C2: Units | D2: Absorbance 1 (450 nm) | E2: Absorbance 2 (450 nm) | F2: ABS avg | H2: Slope | I2: Intercept | J2: Correlation
A3: A1, A2 | B3: 0 | C3: ng/ml | D3: 0.042 | E3: 0.041 | F3: =AVERAGE(D3:E3) -> 0.0415
A4: B1, B2 | B4: 0.05 | C4: ng/ml | D4: 0.044 | E4: 0.044 | F4: =AVERAGE(D4:E4) -> 0.044
A5: C1, C2 | B5: 0.2 | C5: ng/ml | D5: 0.056 | E5: 0.063 | F5: =AVERAGE(D5:E5) -> 0.0595
A6: D1, D2 | B6: 0.6 | C6: ng/ml | D6: 0.138 | E6: 0.182 | F6: =AVERAGE(D6:E6) -> 0.16
A7: E1, E2 | B7: 1.5 | C7: ng/ml | D7: 0.462 | E7: 0.43 | F7: =AVERAGE(D7:E7) -> 0.446
A8: F1, F2 | B8: 3 | C8: ng/ml | D8: 0.432 | E8: 0.802 | F8: =AVERAGE(D8:E8) -> 0.617
A9: G1, G2 | B9: 6 | C9: ng/ml | D9: 1.275 | E9: 0.981 | F9: =AVERAGE(D9:E9) -> 1.128
A10: H1, H2 | B10: 12 | C10: ng/ml | D10: 3.53 | E10: 2.783 | F10: =AVERAGE(D10:E10) -> 3.1565
H11: =SLOPE(F3:F10,B3:B10) -> 0.24921412 | I11: =INTERCEPT(F3:F10,B3:B10) -> -0.020831205 | J11: =CORREL(F3:F10,B3:B10) -> 0.98820737
